Package: isobar Version: 1.48.0 Command: /home/biocbuild/R/R-4.3.1/bin/R CMD build --keep-empty-dirs --no-resave-data isobar StartedAt: 2023-11-02 02:29:00 -0000 (Thu, 02 Nov 2023) EndedAt: 2023-11-02 02:30:29 -0000 (Thu, 02 Nov 2023) EllapsedTime: 89.1 seconds RetCode: 0 Status: OK PackageFile: isobar_1.48.0.tar.gz PackageFileSize: 2.782 MiB