Package: isobar Version: 1.48.0 Maintainer: Florian P Breitwieser MaintainerEmail: florian.bw at gmail.com git_url: https://git.bioconductor.org/packages/isobar git_branch: RELEASE_3_18 git_last_commit: b67e33a git_last_commit_date: 2023-10-24 09:48:32 -0400 (Tue, 24 Oct 2023)