Package: ipdDb Version: 1.20.0 Command: /Library/Frameworks/R.framework/Resources/bin/R CMD INSTALL ipdDb StartedAt: 2024-04-15 16:45:18 -0400 (Mon, 15 Apr 2024) EndedAt: 2024-04-15 16:45:55 -0400 (Mon, 15 Apr 2024) EllapsedTime: 36.6 seconds RetCode: 0 Status: OK