Package: ipdDb Version: 1.20.0 Command: /Library/Frameworks/R.framework/Resources/bin/R CMD INSTALL ipdDb StartedAt: 2024-03-03 15:47:13 -0500 (Sun, 03 Mar 2024) EndedAt: 2024-03-03 15:47:37 -0500 (Sun, 03 Mar 2024) EllapsedTime: 23.8 seconds RetCode: 0 Status: OK