Package: ipdDb Version: 1.20.0 Command: rm -rf ipdDb.buildbin-libdir && mkdir ipdDb.buildbin-libdir && /Users/biocbuild/BBS/utils/build-universal.sh ipdDb_1.20.0.tar.gz /Library/Frameworks/R.framework/Resources/bin/R ipdDb.buildbin-libdir StartedAt: 2024-03-04 00:46:48 -0500 (Mon, 04 Mar 2024) EndedAt: 2024-03-04 00:47:15 -0500 (Mon, 04 Mar 2024) EllapsedTime: 27.3 seconds RetCode: 0 Status: OK PackageFile: ipdDb_1.20.0.tgz PackageFileSize: 413.5 KiB