Package: interactiveDisplayBase Version: 1.40.0 Command: rm -rf interactiveDisplayBase.buildbin-libdir && mkdir interactiveDisplayBase.buildbin-libdir && /Users/biocbuild/BBS/utils/build-universal.sh interactiveDisplayBase_1.40.0.tar.gz /Library/Frameworks/R.framework/Resources/bin/R interactiveDisplayBase.buildbin-libdir StartedAt: 2024-04-16 12:00:55 -0400 (Tue, 16 Apr 2024) EndedAt: 2024-04-16 12:01:07 -0400 (Tue, 16 Apr 2024) EllapsedTime: 11.3 seconds RetCode: 0 Status: OK PackageFile: interactiveDisplayBase_1.40.0.tgz PackageFileSize: 27.72 KiB