Package: interactiveDisplayBase Version: 1.40.0 Command: rm -rf interactiveDisplayBase.buildbin-libdir && mkdir interactiveDisplayBase.buildbin-libdir && /Users/biocbuild/BBS/utils/build-universal.sh interactiveDisplayBase_1.40.0.tar.gz /Library/Frameworks/R.framework/Resources/bin/R interactiveDisplayBase.buildbin-libdir StartedAt: 2024-03-04 00:46:40 -0500 (Mon, 04 Mar 2024) EndedAt: 2024-03-04 00:46:48 -0500 (Mon, 04 Mar 2024) EllapsedTime: 8.0 seconds RetCode: 0 Status: OK PackageFile: interactiveDisplayBase_1.40.0.tgz PackageFileSize: 27.66 KiB