Package: interactiveDisplay Version: 1.40.0 Command: /home/biocbuild/bbs-3.18-bioc/R/bin/R CMD INSTALL interactiveDisplay StartedAt: 2024-04-15 15:50:01 -0400 (Mon, 15 Apr 2024) EndedAt: 2024-04-15 15:50:25 -0400 (Mon, 15 Apr 2024) EllapsedTime: 23.8 seconds RetCode: 0 Status: OK