Package: interactiveDisplay Version: 1.40.0 Command: /Library/Frameworks/R.framework/Resources/bin/R CMD check --install=check:interactiveDisplay.install-out.txt --library=/Library/Frameworks/R.framework/Resources/library --no-vignettes --timings interactiveDisplay_1.40.0.tar.gz StartedAt: 2024-03-03 21:17:24 -0500 (Sun, 03 Mar 2024) EndedAt: 2024-03-03 21:20:48 -0500 (Sun, 03 Mar 2024) EllapsedTime: 204.5 seconds RetCode: 0 Status: OK CheckDir: interactiveDisplay.Rcheck Warnings: 0