Package: interactiveDisplay Version: 1.40.0 Command: /home/biocbuild/R/R-4.3.1/bin/R CMD INSTALL interactiveDisplay StartedAt: 2023-11-01 21:03:03 -0000 (Wed, 01 Nov 2023) EndedAt: 2023-11-01 21:03:36 -0000 (Wed, 01 Nov 2023) EllapsedTime: 33.1 seconds RetCode: 0 Status: OK