Package: intansv Version: 1.42.0 Command: /Library/Frameworks/R.framework/Resources/bin/R CMD check --install=check:intansv.install-out.txt --library=/Library/Frameworks/R.framework/Resources/library --no-vignettes --timings intansv_1.42.0.tar.gz StartedAt: 2024-03-03 21:17:00 -0500 (Sun, 03 Mar 2024) EndedAt: 2024-03-03 21:24:14 -0500 (Sun, 03 Mar 2024) EllapsedTime: 434.9 seconds RetCode: 0 Status: OK CheckDir: intansv.Rcheck Warnings: 0