Package: infinityFlow Version: 1.12.0 Command: /home/biocbuild/bbs-3.18-bioc/R/bin/R CMD build --keep-empty-dirs --no-resave-data infinityFlow StartedAt: 2024-04-15 17:36:25 -0400 (Mon, 15 Apr 2024) EndedAt: 2024-04-15 17:39:42 -0400 (Mon, 15 Apr 2024) EllapsedTime: 197.3 seconds RetCode: 0 Status: OK PackageFile: infinityFlow_1.12.0.tar.gz PackageFileSize: 1.709 <A href="http://en.wikipedia.org/wiki/MiB" target="_blank">MiB</A>