Package: infinityFlow Version: 1.12.0 Command: /home/biocbuild/R/R-4.3.1/bin/R CMD INSTALL infinityFlow StartedAt: 2023-11-01 20:16:28 -0000 (Wed, 01 Nov 2023) EndedAt: 2023-11-01 20:17:01 -0000 (Wed, 01 Nov 2023) EllapsedTime: 33.1 seconds RetCode: 0 Status: OK