Package: infinityFlow Version: 1.12.0 Command: /home/biocbuild/R/R-4.3.1/bin/R CMD build --keep-empty-dirs --no-resave-data infinityFlow StartedAt: 2023-11-02 02:21:24 -0000 (Thu, 02 Nov 2023) EndedAt: 2023-11-02 02:25:41 -0000 (Thu, 02 Nov 2023) EllapsedTime: 257.3 seconds RetCode: 0 Status: OK PackageFile: infinityFlow_1.12.0.tar.gz PackageFileSize: 1.711 MiB