Package: infercnv Version: 1.18.1 Command: chmod a+r infercnv -R && F:\biocbuild\bbs-3.18-bioc\R\bin\R.exe CMD build --keep-empty-dirs --no-resave-data infercnv StartedAt: 2024-04-15 19:08:33 -0400 (Mon, 15 Apr 2024) EndedAt: 2024-04-15 19:10:45 -0400 (Mon, 15 Apr 2024) EllapsedTime: 131.7 seconds RetCode: 0 Status: OK PackageFile: infercnv_1.18.1.tar.gz PackageFileSize: 3.89 MiB