Package: infercnv Version: 1.18.1 Command: rm -rf infercnv.buildbin-libdir && mkdir infercnv.buildbin-libdir && F:\biocbuild\bbs-3.18-bioc\R\bin\R.exe CMD INSTALL --build --library=infercnv.buildbin-libdir infercnv_1.18.1.tar.gz StartedAt: 2024-04-16 07:10:00 -0400 (Tue, 16 Apr 2024) EndedAt: 2024-04-16 07:11:06 -0400 (Tue, 16 Apr 2024) EllapsedTime: 65.7 seconds RetCode: 0 Status: OK PackageFile: infercnv_1.18.1.zip PackageFileSize: 4.288 MiB