Package: infercnv Version: 1.18.1 Command: /home/biocbuild/bbs-3.18-bioc/R/bin/R CMD INSTALL infercnv StartedAt: 2024-04-15 15:38:10 -0400 (Mon, 15 Apr 2024) EndedAt: 2024-04-15 15:38:55 -0400 (Mon, 15 Apr 2024) EllapsedTime: 44.8 seconds RetCode: 0 Status: OK