Package: infercnv Version: 1.18.1 Command: /home/biocbuild/bbs-3.18-bioc/R/bin/R CMD build --keep-empty-dirs --no-resave-data infercnv StartedAt: 2024-04-15 17:36:15 -0400 (Mon, 15 Apr 2024) EndedAt: 2024-04-15 17:38:02 -0400 (Mon, 15 Apr 2024) EllapsedTime: 107.4 seconds RetCode: 0 Status: OK PackageFile: infercnv_1.18.1.tar.gz PackageFileSize: 3.941 MiB