Package: infercnv Version: 1.18.1 Command: /Library/Frameworks/R.framework/Resources/bin/R CMD INSTALL infercnv StartedAt: 2024-04-15 16:13:05 -0400 (Mon, 15 Apr 2024) EndedAt: 2024-04-15 16:14:43 -0400 (Mon, 15 Apr 2024) EllapsedTime: 97.9 seconds RetCode: 0 Status: OK