Package: infercnv Version: 1.18.1 Command: rm -rf infercnv.buildbin-libdir && mkdir infercnv.buildbin-libdir && /Users/biocbuild/BBS/utils/build-universal.sh infercnv_1.18.1.tar.gz /Library/Frameworks/R.framework/Resources/bin/R infercnv.buildbin-libdir StartedAt: 2024-04-16 12:00:10 -0400 (Tue, 16 Apr 2024) EndedAt: 2024-04-16 12:02:33 -0400 (Tue, 16 Apr 2024) EllapsedTime: 143.1 seconds RetCode: 0 Status: OK PackageFile: infercnv_1.18.1.tgz PackageFileSize: 4.363 MiB