Package: infercnv Version: 1.18.1 Command: rm -rf infercnv.buildbin-libdir && mkdir infercnv.buildbin-libdir && /Users/biocbuild/BBS/utils/build-universal.sh infercnv_1.18.1.tar.gz /Library/Frameworks/R.framework/Resources/bin/R infercnv.buildbin-libdir StartedAt: 2024-03-04 00:46:30 -0500 (Mon, 04 Mar 2024) EndedAt: 2024-03-04 00:47:42 -0500 (Mon, 04 Mar 2024) EllapsedTime: 72.5 seconds RetCode: 0 Status: OK PackageFile: infercnv_1.18.1.tgz PackageFileSize: 4.339 MiB