Package: infercnv Version: 1.18.0 Command: /home/biocbuild/R/R-4.3.1/bin/R CMD INSTALL infercnv StartedAt: 2023-11-01 20:47:14 -0000 (Wed, 01 Nov 2023) EndedAt: 2023-11-01 20:48:15 -0000 (Wed, 01 Nov 2023) EllapsedTime: 61.2 seconds RetCode: 0 Status: OK