Package: infercnv Version: 1.18.0 Command: /home/biocbuild/R/R-4.3.1/bin/R CMD build --keep-empty-dirs --no-resave-data infercnv StartedAt: 2023-11-02 02:21:16 -0000 (Thu, 02 Nov 2023) EndedAt: 2023-11-02 02:23:32 -0000 (Thu, 02 Nov 2023) EllapsedTime: 136.2 seconds RetCode: 0 Status: OK PackageFile: infercnv_1.18.0.tar.gz PackageFileSize: 3.964 MiB