Package: impute Version: 1.76.0 Command: /home/biocbuild/bbs-3.18-bioc/R/bin/R CMD INSTALL impute StartedAt: 2024-04-15 15:05:37 -0400 (Mon, 15 Apr 2024) EndedAt: 2024-04-15 15:05:47 -0400 (Mon, 15 Apr 2024) EllapsedTime: 9.9 seconds RetCode: 0 Status: OK