Package: impute Version: 1.76.0 Command: /Library/Frameworks/R.framework/Resources/bin/R CMD INSTALL impute StartedAt: 2024-04-15 15:03:34 -0400 (Mon, 15 Apr 2024) EndedAt: 2024-04-15 15:03:45 -0400 (Mon, 15 Apr 2024) EllapsedTime: 10.8 seconds RetCode: 0 Status: OK