Package: impute Version: 1.76.0 Command: /Library/Frameworks/R.framework/Resources/bin/R CMD INSTALL impute StartedAt: 2024-03-03 15:03:32 -0500 (Sun, 03 Mar 2024) EndedAt: 2024-03-03 15:03:46 -0500 (Sun, 03 Mar 2024) EllapsedTime: 13.4 seconds RetCode: 0 Status: OK