Package: immunoClust Version: 1.34.0 Command: rm -rf immunoClust.buildbin-libdir && mkdir immunoClust.buildbin-libdir && F:\biocbuild\bbs-3.18-bioc\R\bin\R.exe CMD INSTALL --build --library=immunoClust.buildbin-libdir immunoClust_1.34.0.tar.gz StartedAt: 2024-04-16 07:09:52 -0400 (Tue, 16 Apr 2024) EndedAt: 2024-04-16 07:10:35 -0400 (Tue, 16 Apr 2024) EllapsedTime: 43.0 seconds RetCode: 0 Status: OK PackageFile: immunoClust_1.34.0.zip PackageFileSize: 3.465 MiB