Package: imcRtools Version: 1.8.0 Command: /Library/Frameworks/R.framework/Resources/bin/R CMD INSTALL imcRtools StartedAt: 2024-03-03 15:32:20 -0500 (Sun, 03 Mar 2024) EndedAt: 2024-03-03 15:33:39 -0500 (Sun, 03 Mar 2024) EllapsedTime: 78.8 seconds RetCode: 0 Status: OK