Package: imcRtools Version: 1.8.0 Command: /Library/Frameworks/R.framework/Resources/bin/R CMD check --install=check:imcRtools.install-out.txt --library=/Library/Frameworks/R.framework/Resources/library --no-vignettes --timings imcRtools_1.8.0.tar.gz StartedAt: 2024-03-03 21:15:21 -0500 (Sun, 03 Mar 2024) EndedAt: 2024-03-03 21:39:44 -0500 (Sun, 03 Mar 2024) EllapsedTime: 1462.3 seconds RetCode: 0 Status: OK CheckDir: imcRtools.Rcheck Warnings: 0