Package: imcRtools Version: 1.8.0 Command: /Library/Frameworks/R.framework/Resources/bin/R CMD build --keep-empty-dirs --no-resave-data imcRtools StartedAt: 2024-03-03 17:05:30 -0500 (Sun, 03 Mar 2024) EndedAt: 2024-03-03 17:09:34 -0500 (Sun, 03 Mar 2024) EllapsedTime: 244.6 seconds RetCode: 0 Status: OK PackageFile: imcRtools_1.8.0.tar.gz PackageFileSize: 6.048 MiB