Package: imcRtools Version: 1.8.0 Command: rm -rf imcRtools.buildbin-libdir && mkdir imcRtools.buildbin-libdir && /Users/biocbuild/BBS/utils/build-universal.sh imcRtools_1.8.0.tar.gz /Library/Frameworks/R.framework/Resources/bin/R imcRtools.buildbin-libdir StartedAt: 2024-03-04 00:46:24 -0500 (Mon, 04 Mar 2024) EndedAt: 2024-03-04 00:47:48 -0500 (Mon, 04 Mar 2024) EllapsedTime: 83.9 seconds RetCode: 0 Status: OK PackageFile: imcRtools_1.8.0.tgz PackageFileSize: 5.857 MiB