Package: imcRtools Version: 1.8.0 Command: /home/biocbuild/R/R-4.3.1/bin/R CMD check --install=check:imcRtools.install-out.txt --library=/home/biocbuild/R/R-4.3.1/site-library --no-vignettes --timings imcRtools_1.8.0.tar.gz StartedAt: 2023-11-02 11:25:00 -0000 (Thu, 02 Nov 2023) EndedAt: 2023-11-02 11:34:11 -0000 (Thu, 02 Nov 2023) EllapsedTime: 551.4 seconds RetCode: 1 Status: ERROR CheckDir: imcRtools.Rcheck Warnings: NA