Package: illuminaio Version: 0.44.0 Command: chmod a+r illuminaio -R && F:\biocbuild\bbs-3.18-bioc\R\bin\R.exe CMD build --keep-empty-dirs --no-resave-data illuminaio StartedAt: 2024-04-15 19:06:17 -0400 (Mon, 15 Apr 2024) EndedAt: 2024-04-15 19:06:40 -0400 (Mon, 15 Apr 2024) EllapsedTime: 23.3 seconds RetCode: 0 Status: OK PackageFile: illuminaio_0.44.0.tar.gz PackageFileSize: 300.5 KiB