Package: illuminaio Version: 0.44.0 Command: /home/biocbuild/bbs-3.18-bioc/R/bin/R CMD check --install=check:illuminaio.install-out.txt --library=/home/biocbuild/bbs-3.18-bioc/R/site-library --timings illuminaio_0.44.0.tar.gz StartedAt: 2024-04-15 23:55:23 -0400 (Mon, 15 Apr 2024) EndedAt: 2024-04-15 23:55:58 -0400 (Mon, 15 Apr 2024) EllapsedTime: 34.7 seconds RetCode: 0 Status: OK CheckDir: illuminaio.Rcheck Warnings: 0