Package: illuminaio Version: 0.44.0 Command: /home/biocbuild/R/R-4.3.1/bin/R CMD check --install=check:illuminaio.install-out.txt --library=/home/biocbuild/R/R-4.3.1/site-library --no-vignettes --timings illuminaio_0.44.0.tar.gz StartedAt: 2023-11-02 11:24:50 -0000 (Thu, 02 Nov 2023) EndedAt: 2023-11-02 11:25:15 -0000 (Thu, 02 Nov 2023) EllapsedTime: 25.1 seconds RetCode: 0 Status: OK CheckDir: illuminaio.Rcheck Warnings: 0