Package: illuminaio Version: 0.44.0 Command: /home/biocbuild/R/R-4.3.1/bin/R CMD build --keep-empty-dirs --no-resave-data illuminaio StartedAt: 2023-11-02 02:18:36 -0000 (Thu, 02 Nov 2023) EndedAt: 2023-11-02 02:18:47 -0000 (Thu, 02 Nov 2023) EllapsedTime: 11.0 seconds RetCode: 0 Status: OK PackageFile: illuminaio_0.44.0.tar.gz PackageFileSize: 358.2 KiB