Package: idr2d Version: 1.16.0 Command: F:\biocbuild\bbs-3.18-bioc\R\bin\R.exe CMD INSTALL idr2d StartedAt: 2024-04-15 15:51:35 -0400 (Mon, 15 Apr 2024) EndedAt: 2024-04-15 15:51:57 -0400 (Mon, 15 Apr 2024) EllapsedTime: 22.6 seconds RetCode: 0 Status: OK