Package: idiogram Version: 1.78.0 Command: /home/biocbuild/bbs-3.18-bioc/R/bin/R CMD check --install=check:idiogram.install-out.txt --library=/home/biocbuild/bbs-3.18-bioc/R/site-library --timings idiogram_1.78.0.tar.gz StartedAt: 2024-04-15 23:54:15 -0400 (Mon, 15 Apr 2024) EndedAt: 2024-04-15 23:56:09 -0400 (Mon, 15 Apr 2024) EllapsedTime: 113.5 seconds RetCode: 0 Status: OK CheckDir: idiogram.Rcheck Warnings: 0