Package: iasva Version: 1.20.0 Command: /Library/Frameworks/R.framework/Resources/bin/R CMD INSTALL iasva StartedAt: 2024-04-15 15:25:08 -0400 (Mon, 15 Apr 2024) EndedAt: 2024-04-15 15:25:51 -0400 (Mon, 15 Apr 2024) EllapsedTime: 43.3 seconds RetCode: 0 Status: OK