Package: iasva Version: 1.20.0 Command: rm -rf iasva.buildbin-libdir && mkdir iasva.buildbin-libdir && /Users/biocbuild/BBS/utils/build-universal.sh iasva_1.20.0.tar.gz /Library/Frameworks/R.framework/Resources/bin/R iasva.buildbin-libdir StartedAt: 2024-03-04 00:46:06 -0500 (Mon, 04 Mar 2024) EndedAt: 2024-03-04 00:46:36 -0500 (Mon, 04 Mar 2024) EllapsedTime: 30.8 seconds RetCode: 0 Status: OK PackageFile: iasva_1.20.0.tgz PackageFileSize: 1.108 MiB