Package: iSeq Version: 1.54.0 Command: chmod a+r iSeq -R && F:\biocbuild\bbs-3.18-bioc\R\bin\R.exe CMD build --keep-empty-dirs --no-resave-data iSeq StartedAt: 2024-04-15 19:12:19 -0400 (Mon, 15 Apr 2024) EndedAt: 2024-04-15 19:12:52 -0400 (Mon, 15 Apr 2024) EllapsedTime: 32.8 seconds RetCode: 0 Status: OK PackageFile: iSeq_1.54.0.tar.gz PackageFileSize: 1.2 MiB