Package: iSeq Version: 1.54.0 Command: rm -rf iSeq.buildbin-libdir && mkdir iSeq.buildbin-libdir && F:\biocbuild\bbs-3.18-bioc\R\bin\R.exe CMD INSTALL --build --library=iSeq.buildbin-libdir iSeq_1.54.0.tar.gz StartedAt: 2024-04-16 07:11:12 -0400 (Tue, 16 Apr 2024) EndedAt: 2024-04-16 07:11:21 -0400 (Tue, 16 Apr 2024) EllapsedTime: 8.8 seconds RetCode: 0 Status: OK PackageFile: iSeq_1.54.0.zip PackageFileSize: 1.583 MiB