Package: iSEEu Version: 1.14.0 Command: /home/biocbuild/bbs-3.18-bioc/R/bin/R CMD INSTALL iSEEu StartedAt: 2024-04-15 15:27:35 -0400 (Mon, 15 Apr 2024) EndedAt: 2024-04-15 15:28:09 -0400 (Mon, 15 Apr 2024) EllapsedTime: 33.9 seconds RetCode: 0 Status: OK