Package: iSEEhex Version: 1.4.0 Command: rm -rf iSEEhex.buildbin-libdir && mkdir iSEEhex.buildbin-libdir && F:\biocbuild\bbs-3.18-bioc\R\bin\R.exe CMD INSTALL --build --library=iSEEhex.buildbin-libdir iSEEhex_1.4.0.tar.gz StartedAt: 2024-04-16 07:10:57 -0400 (Tue, 16 Apr 2024) EndedAt: 2024-04-16 07:11:38 -0400 (Tue, 16 Apr 2024) EllapsedTime: 40.5 seconds RetCode: 0 Status: OK PackageFile: iSEEhex_1.4.0.zip PackageFileSize: 564.1 KiB