Package: iSEE Version: 2.14.0 Command: /Library/Frameworks/R.framework/Resources/bin/R CMD INSTALL iSEE StartedAt: 2024-04-15 15:46:09 -0400 (Mon, 15 Apr 2024) EndedAt: 2024-04-15 15:47:39 -0400 (Mon, 15 Apr 2024) EllapsedTime: 89.1 seconds RetCode: 0 Status: OK