Package: iSEE Version: 2.14.0 Command: rm -rf iSEE.buildbin-libdir && mkdir iSEE.buildbin-libdir && /Users/biocbuild/BBS/utils/build-universal.sh iSEE_2.14.0.tar.gz /Library/Frameworks/R.framework/Resources/bin/R iSEE.buildbin-libdir StartedAt: 2024-03-04 00:46:59 -0500 (Mon, 04 Mar 2024) EndedAt: 2024-03-04 00:48:06 -0500 (Mon, 04 Mar 2024) EllapsedTime: 67.1 seconds RetCode: 0 Status: OK PackageFile: iSEE_2.14.0.tgz PackageFileSize: 22.17 MiB