Package: iPath Version: 1.8.0 Command: /Library/Frameworks/R.framework/Resources/bin/R CMD check --install=check:iPath.install-out.txt --library=/Library/Frameworks/R.framework/Resources/library --no-vignettes --timings iPath_1.8.0.tar.gz StartedAt: 2024-03-03 21:19:01 -0500 (Sun, 03 Mar 2024) EndedAt: 2024-03-03 21:20:54 -0500 (Sun, 03 Mar 2024) EllapsedTime: 112.9 seconds RetCode: 0 Status: OK CheckDir: iPath.Rcheck Warnings: 0