Package: iPath Version: 1.8.0 Command: /Library/Frameworks/R.framework/Resources/bin/R CMD build --keep-empty-dirs --no-resave-data iPath StartedAt: 2024-03-03 17:08:29 -0500 (Sun, 03 Mar 2024) EndedAt: 2024-03-03 17:09:08 -0500 (Sun, 03 Mar 2024) EllapsedTime: 38.4 seconds RetCode: 0 Status: OK PackageFile: iPath_1.8.0.tar.gz PackageFileSize: 2.958 MiB