Package: iPAC Version: 1.46.0 Command: chmod a+r iPAC -R && F:\biocbuild\bbs-3.18-bioc\R\bin\R.exe CMD build --keep-empty-dirs --no-resave-data iPAC StartedAt: 2024-04-15 19:10:50 -0400 (Mon, 15 Apr 2024) EndedAt: 2024-04-15 19:11:14 -0400 (Mon, 15 Apr 2024) EllapsedTime: 24.5 seconds RetCode: 0 Status: OK PackageFile: iPAC_1.46.0.tar.gz PackageFileSize: 451 KiB