Package: iPAC Version: 1.46.0 Command: rm -rf iPAC.buildbin-libdir && mkdir iPAC.buildbin-libdir && F:\biocbuild\bbs-3.18-bioc\R\bin\R.exe CMD INSTALL --build --library=iPAC.buildbin-libdir iPAC_1.46.0.tar.gz StartedAt: 2024-04-16 07:10:34 -0400 (Tue, 16 Apr 2024) EndedAt: 2024-04-16 07:10:54 -0400 (Tue, 16 Apr 2024) EllapsedTime: 20.5 seconds RetCode: 0 Status: OK PackageFile: iPAC_1.46.0.zip PackageFileSize: 394 KiB